BEGIN:VCALENDAR
VERSION:2.0
PRODID:-//InvisionCommunity Events 4.7.24//EN
METHOD:PUBLISH
CALSCALE:GREGORIAN
REFRESH-INTERVAL:PT15M
X-PUBLISHED-TTL:PT15M
X-WR-CALNAME:Akcije motociklista
NAME:Akcije motociklista
BEGIN:VTIMEZONE
TZID:Europe/London
TZURL:http://tzurl.org/zoneinfo/Europe/London
X-LIC-LOCATION:Europe/London
BEGIN:DAYLIGHT
TZOFFSETFROM:+0000
TZOFFSETTO:+0100
TZNAME:BST
DTSTART:20170326T020000Z
RRULE:FREQ=YEARLY;BYMONTH=3;BYDAY=-1SU
END:DAYLIGHT
BEGIN:STANDARD
TZOFFSETFROM:+0100
TZOFFSETTO:+0000
TZNAME:GMT
DTSTART:20171029T020000Z
RRULE:FREQ=YEARLY;BYMONTH=10;BYDAY=-1SU
END:STANDARD
END:VTIMEZONE
BEGIN:VEVENT
SUMMARY:Moto Deda Mraz 2017.
DTSTAMP:20171208T114847Z
SEQUENCE:0
UID:92-4-27cc4b2b0ae372a169700dd8a71067e9@forum.bjbikers.com
ORGANIZER;CN="Pablo":webmaster@bjbikers.com
DESCRIPTION:\n	\n		Došlo je ono vreme u godini da najavimo jedanaest
	u po redu humanitarnu akciju:\n'Moto Deda Mraz 2017'.          
	\n\n\n		Kao i ranijih godina\, okupićemo se pretposlednje Subote u godini
	 i taj dan posvetiti našim malim drugarima iz Doma za decu i omladinu om
	etenu u mentalnom razvoju\, u Sremčici. Ove godine je to 23. Decembar.\n
		\n\n	\n		 \n	\n\n	\n		Evo kako je to izgledalo prošlih godina:\n	\n\n	
	\n		 \n	\n\n	\n		\n			\n		\n	\n\n	\n		Odlučili smo da svoju i pažnju m
	edija i posetilaca usmerimo na dom u Sremčici\, pa će akcija obuhvatiti 
	okupljanje ispred gradske skupštine\, svečani defile do Sremčice i dru
	ženje u krugu doma\, u okviru čega smo pripremili zanimljiv program! Da
	n ćemo završiti ručkom\, kao i do sada.Moto Deda Mraz akcija iz godine
	 u godinu okuplja sve više motociklista\, pa u krug Doma u Sremčici z
	na da stigne i preko 300 motora. Pridružite nam se i ove godine i vozit
	e se u najveselijoj koloni!!\n\n	\n		 \n	\n\n	\n		 \n	\n\n	\n		Kao što
	 ćete videti\, program u domu će biti zanimljiv\, pa vas zato pozivamo d
	a u dom dovedete i svoju decu\, da svi zajedno obeležimo taj dan na najbo
	lji način - iskrenom radošću i druženjem!\n\n		 \n	\n\n	\n		Satnica:\
	n	\n\n	\n		 \n	\n\n	\n		Okupljanje motociklista 10h –&gt\; Plato ispred
	 Skupštine grada Beograda\n\n10.45h -&gt\; Tradicionalno zajedničko foto
	grafisanje\n\n11h -&gt\; Polazak organizovane kolone ka Domu u Sremčici (
	tradicionalna ruta)\n\n11:30-11:45h -&gt\; Dolazak u Dom u Sremčici\n\n12
	:00 - 14:30h -&gt\; Program u Domu\n\nOko 14:30h -&gt\; Polazak iz Sremči
	ce ka restoranu\n	\n\n	\n		 \n	\n\n	\n		15h - 17h -&gt\; Ručak u resto
	ranu\n	\n\n	\n		 \n	\n\n	\n		A sad logistički detalji (čitaj\, $$)\
	, nešto bez čega ova akcija ne bi mogla uspeti.\n\n\n		Prvu količinu De
	da Mraz odela smo obezbedili i već je možete preuzeti na sledećim loka
	cijama\, a kako budemo obezbedili još odela za nove lokacije\, blagovrem
	eno ćemo vas obaveštavati:\n	\n\n	\n		 \n	\n\n	\n		KTM Centar\, \n	\n\
	n	\n		Jove Ilića 2\, Beograd 11040\n	\n\n	\n		 \n	\n\n	\n		MOTORING\,\n
	Knjeginje Zorke 39\, Beograd 11000\n	\n\n	\n		 \n	\n\n	\n		MOTOMANIA\, 
	moto radnja\n	\n\n	\n		Bulevar Mihajla Pupina 10E lokal 16 YBC\n\n		11070 
	Novi Beograd\n\n		011-311-09-41 011-31-31-335\n\n		063-111-31-12\n\n		 \n
		\n\n	\n		MAXMOMENT\,\n	\n\n	\n		Karađorđeva 57\n	\n\n	\n		011/3287-258\
	n	\n\n	\n		 \n	\n\n	\n		MOTO LAND\nPoenkareova 20\nTel. 011 2182 555\n	\n
	\n	\n		 \n	\n\n	\n		DUCATI SRBIJA\n	\n\n	\n		Bul.Arsenija Čarnojevića 9
	5\n	\n\n	\n		Novi Beograd\n	\n\n	\n		tel. 062774045\n	\n\n	\n		...\n\nPrep
	oručeni iznos donacije je 1500 dinara.\n	\n\n	\n		Prilikom predaje dona
	cije\, preuzmite Vaše Deda Mraz odelo. Na svakoj lokaciji će postojati i
	 jedan “formular” na koji svako ko preuzima odelo treba svojeručno da
	 napiše svoje ime\, mail adresu i iznos koji je ostavio.\n\n Imajući u 
	vidu celokupnu ekonomsku situaciju molimo Vas da iznos od 1500 dinara shva
	tite samo kao preporučenu visinu donacije\, a svaki iznos preko 1000 dina
	ra računaće se kao validna donacija i moći ćete da preuzmete Vaše ode
	lo.\n\n\n		I ove godine će nam trebati pomoć oko pakovanja paketića 
	i još ponešto... \n\n		(Ali\, obasipaćemo Vas informacijama\, kako bu
	du pristizale iz organizacije\, zasad je sve semajlirano  i uglobljeno)\n
	\n\n		Za one koji žele da doniraju\, a to bi da urade putem uplate u poš
	ti ili banci\, evo primer uplatnice sa instrukcijama za uplatu:\n	\n\n	\n	
		\n	\n\n	\n		 \n	\n\n	\n		Više informacija možete pronaći u temi na fo
	rumu:\n	\n	\n\n	\n		 \n	\n
DTSTART:20171223T090000Z
DTEND:20171223T150000Z
END:VEVENT
END:VCALENDAR
