BEGIN:VCALENDAR
VERSION:2.0
PRODID:-//InvisionCommunity Events 4.7.24//EN
METHOD:PUBLISH
CALSCALE:GREGORIAN
REFRESH-INTERVAL:PT15M
X-PUBLISHED-TTL:PT15M
X-WR-CALNAME:Turističke vožnje
NAME:Turističke vožnje
BEGIN:VTIMEZONE
TZID:Europe/London
TZURL:http://tzurl.org/zoneinfo/Europe/London
X-LIC-LOCATION:Europe/London
BEGIN:DAYLIGHT
TZOFFSETFROM:+0000
TZOFFSETTO:+0100
TZNAME:BST
DTSTART:20170326T020000Z
RRULE:FREQ=YEARLY;BYMONTH=3;BYDAY=-1SU
END:DAYLIGHT
BEGIN:STANDARD
TZOFFSETFROM:+0100
TZOFFSETTO:+0000
TZNAME:GMT
DTSTART:20171029T020000Z
RRULE:FREQ=YEARLY;BYMONTH=10;BYDAY=-1SU
END:STANDARD
END:VTIMEZONE
BEGIN:VEVENT
SUMMARY:BJB Gulash VII
DTSTAMP:20170912T140213Z
SEQUENCE:0
UID:90-5-27cc4b2b0ae372a169700dd8a71067e9@forum.bjbikers.com
ORGANIZER;CN="Pablo":webmaster@bjbikers.com
DESCRIPTION:\n\n	I ove godine ne preskacemo druzenje\, tako da smo zakaz
	ali BJB Gulash za 16. Septembar 2017 u Smederevu.\n\n\n\n	 \n\n\n\n	Dru
	zenje cemo zapoceti oko 12 h na terasi dobropoznate smederevske ustanove
	 \"Beerland\" .\n\n\n\n	 \n\n\n\n	http://www.restoranbeerland.rs/ ovde 
	imate sve o restoranu pa i lokaciju.\n\n\n\n	 \n\n\n\n	Lokacija je izvare
	dna\, nalazi se na samom ulasku u grad (iz pravca Beograda - smederevcem)\
	, preko puta veslackog kluba.\n\n\n\n	 \n\n\n\n	Ovog puta smo angazovali 
	profesionalce iz Beerland-a da iznesu ugostiteljski deo\, kako bi mi iz or
	ganizacije Gulasha\, za razliku od proslih\, imali vise vremena da se druz
	imo sa vama.\n\n\n\n	 \n\n\n\n	Cene pica i klope\, ce kao i svake godine 
	biti nize od maloprodajnih u restoranima\, a dogovorili smo Gulas sa hlebo
	m i salatom 300 din\, Velika pljeskavica u somunu\, sa prilozima 240 din\,
	 Jelen toceni 120\, Domaca sljivovica 80\, domaca kafa 50 dinara itd.\n\n\
	n\n	 \n\n\n\n	Za najdruzeljubivije\, u zatvorenom delu restorana uvece po
	cinje \"ziva svirka-cirilica\".\n\n\n\n	 \n\n\n\n	Ako neko dolazi sa stra
	ne i ima nameru da prespava\, neka mi se javi da pomognem oko nalazenja sm
	estaja.\n\n\n\n	 \n\n\n\n	Kao i uvek do sada\, motori nisu uslov za dolaz
	ak...dodjite kolima ..busom ili ko sta ima\, izvolite sa clanovima porodic
	e mesto je odlicno i za decu\, jer je u blizini Dunavski kej i deciji park
	ic i igraliste. \n\n\n\n	 \n\n\n\n	Iz Beograda ce biti organizovan i gru
	pni polazak\, sa voznjicom i krivinarenjem preko Avale\, Mladenovca\, Dubo
	ne i Malog orasja do Smedereva....pa ko voli. Sastanak grupe ce biti u 9:3
	0 kod 1000 Ruza\, tamo ce vas docekati Nikola (Wizard666)\, a polazak kolo
	ne je planiran u 10:00h.\n\n\n\n	 \n\n\n\n	Moram da napomenem\, da cemo t
	radicionalno i ovog puta zapoceti sa ranim donacijama\, za nase drugare iz
	 Doma za decu ometenu u razvoju - Sremcica\, \n\n\n\n	donacije ce biti ja
	vne i transparentne\, pa ko koliko moze\, pozivam da uzmete ucesce.\n\n\n\
	n	 \n\n\n\n	Malo kasnije cu dodati i neke fotografije i blizu lokaciju sa
	 Google-ta.\n\n\n\n	 \n\n\n\n	Dodjite da se druzimo!\n\n\n\n	 \n\n\n\n\
	n	 \n\n
DTSTART:20170915T220000Z
END:VEVENT
END:VCALENDAR
