BEGIN:VCALENDAR
VERSION:2.0
PRODID:-//InvisionCommunity Events 4.7.24//EN
METHOD:PUBLISH
CALSCALE:GREGORIAN
REFRESH-INTERVAL:PT15M
X-PUBLISHED-TTL:PT15M
X-WR-CALNAME:Vožnja na stazi
NAME:Vožnja na stazi
BEGIN:VTIMEZONE
TZID:Europe/London
TZURL:http://tzurl.org/zoneinfo/Europe/London
X-LIC-LOCATION:Europe/London
BEGIN:DAYLIGHT
TZOFFSETFROM:+0000
TZOFFSETTO:+0100
TZNAME:BST
DTSTART:20170326T020000Z
RRULE:FREQ=YEARLY;BYMONTH=3;BYDAY=-1SU
END:DAYLIGHT
BEGIN:STANDARD
TZOFFSETFROM:+0100
TZOFFSETTO:+0000
TZNAME:GMT
DTSTART:20171029T020000Z
RRULE:FREQ=YEARLY;BYMONTH=10;BYDAY=-1SU
END:STANDARD
END:VTIMEZONE
BEGIN:VEVENT
SUMMARY:KTM Orange Day
DTSTAMP:20170525T145250Z
SEQUENCE:0
UID:80-6-27cc4b2b0ae372a169700dd8a71067e9@forum.bjbikers.com
ORGANIZER;CN="Pablo":webmaster@bjbikers.com
DESCRIPTION:\n\n	Dana 03.06.2017 Promoto Centar Vas poziva na Orange Day
	 koji ce se održati na NOMAD poligon kampu offroad centru u Bubanj potoku
	 sa početkom u 10 casova.\n\n\n\n	 \n\n\n\n	Na poligonu ce biti predstav
	ljeni neki od KTM modela za  2017 godinu kao i mogućnost probe offroad m
	odela.\n\n\n\n	Za probu motocikla neophodno je posedovanje i korišćenje 
	zaštitne opreme: kaciga\, čizme\, rukavice!\n\n\n\n	Na stazi biće instr
	uktori koji ce Vam pomoći i objasniti kako da lakse upravljate motociklom
	 na terenu.\n\n\n\n	 \n\n\n\n	Jedinstvena prilika za sve one koji voze mo
	tocikl\, a jos uvek nisu sišli sa asfalta!\n\n\n\n	 \n\n\n\n	\n\n\n\n	 
	\n\n
DTSTART:20170603T080000Z
DTEND:20170603T160000Z
END:VEVENT
END:VCALENDAR
