BEGIN:VCALENDAR
VERSION:2.0
PRODID:-//InvisionCommunity Events 4.7.24//EN
METHOD:PUBLISH
CALSCALE:GREGORIAN
REFRESH-INTERVAL:PT15M
X-PUBLISHED-TTL:PT15M
X-WR-CALNAME:Akcije motociklista
NAME:Akcije motociklista
BEGIN:VTIMEZONE
TZID:Europe/London
TZURL:http://tzurl.org/zoneinfo/Europe/London
X-LIC-LOCATION:Europe/London
BEGIN:DAYLIGHT
TZOFFSETFROM:+0000
TZOFFSETTO:+0100
TZNAME:BST
DTSTART:20170326T020000Z
RRULE:FREQ=YEARLY;BYMONTH=3;BYDAY=-1SU
END:DAYLIGHT
BEGIN:STANDARD
TZOFFSETFROM:+0100
TZOFFSETTO:+0000
TZNAME:GMT
DTSTART:20171029T020000Z
RRULE:FREQ=YEARLY;BYMONTH=10;BYDAY=-1SU
END:STANDARD
END:VTIMEZONE
BEGIN:VEVENT
SUMMARY:Dobrovoljno davanje krvi
DTSTAMP:20170126T120650Z
SEQUENCE:0
UID:61-4-27cc4b2b0ae372a169700dd8a71067e9@forum.bjbikers.com
ORGANIZER;CN="Pablo":webmaster@bjbikers.com
DESCRIPTION:\n\n \nU Subotu 28 Januara daćemo krv 19 put.\nDavanje krv
	i obavićemo u prostorijama Instituta za transfuziju krvi u ulici Svetog S
	ave br. 39 sa početkom u 11 časova.\n \nZima je\, vasezonski period a o
	vo je prilika da se tokom davanja vidimo i ispričamo I kada vreme nije le
	po.\n \nViše detalja možete pronaći u temi na forumu:\nhttp://forum.bj
	bikers.com/index.php?/topic/116916-davanje-krvi-subota-28-januar/\n
DTSTART;VALUE=DATE:20170128
END:VEVENT
END:VCALENDAR
