BEGIN:VCALENDAR
VERSION:2.0
PRODID:-//InvisionCommunity Events 4.7.24//EN
METHOD:PUBLISH
CALSCALE:GREGORIAN
REFRESH-INTERVAL:PT15M
X-PUBLISHED-TTL:PT15M
X-WR-CALNAME:Akcije motociklista
NAME:Akcije motociklista
BEGIN:VTIMEZONE
TZID:Europe/London
TZURL:http://tzurl.org/zoneinfo/Europe/London
X-LIC-LOCATION:Europe/London
BEGIN:DAYLIGHT
TZOFFSETFROM:+0000
TZOFFSETTO:+0100
TZNAME:BST
DTSTART:20140330T020000Z
RRULE:FREQ=YEARLY;BYMONTH=3;BYDAY=-1SU
END:DAYLIGHT
BEGIN:STANDARD
TZOFFSETFROM:+0100
TZOFFSETTO:+0000
TZNAME:GMT
DTSTART:20141026T020000Z
RRULE:FREQ=YEARLY;BYMONTH=10;BYDAY=-1SU
END:STANDARD
END:VTIMEZONE
BEGIN:VEVENT
SUMMARY:BJB Žurka 2014
DTSTAMP:20141122T084856Z
SEQUENCE:1
UID:49-4-27cc4b2b0ae372a169700dd8a71067e9@forum.bjbikers.com
ORGANIZER;CN="Pablo":webmaster@bjbikers.com
DESCRIPTION:\nKao prethodne i ova žurka je humanitarnog karaktera\, sa 
	ciljem da prikupimo što više sredstava za organizaciju \"Moto Deda Mraz 
	2014\" i paketiće koje ćemo tada uručiti našim drugarima iz Sremčice.
	 To podrazumeva da će sav ostvaren prihod od lutrije i pića ići za deda
	mrazijadu\, Sremčicu i Kulinu. Naravno\, izveštaj o zaradi biće transpa
	rentno prikazan na forumu\, kao što je red.\n \nUlaz će biti besplatan.
	 Cene pića će biti simbolične u odnosu na druge ugostiteljske objekte (
	50 - 120 dinara). Tiketi za lutriju će koštati 200 dinara po tiketu\, a 
	biće postavljena i kutija za donacije ukoliko neko želi da direktno nov
	čano pomogne akciji.\n \nViše informacija u temi na forumu:\nhttp://for
	um.bjbikers.com/index.php?%2Ftopic%2F105711-bjb-zurka-2014%2F\n
DTSTART:20141129T200000Z
END:VEVENT
END:VCALENDAR
