BEGIN:VCALENDAR
VERSION:2.0
PRODID:-//InvisionCommunity Events 4.7.24//EN
METHOD:PUBLISH
CALSCALE:GREGORIAN
REFRESH-INTERVAL:PT15M
X-PUBLISHED-TTL:PT15M
X-WR-CALNAME:Akcije motociklista
NAME:Akcije motociklista
BEGIN:VTIMEZONE
TZID:Europe/London
TZURL:http://tzurl.org/zoneinfo/Europe/London
X-LIC-LOCATION:Europe/London
BEGIN:DAYLIGHT
TZOFFSETFROM:+0000
TZOFFSETTO:+0100
TZNAME:BST
DTSTART:20250330T020000Z
RRULE:FREQ=YEARLY;BYMONTH=3;BYDAY=-1SU
END:DAYLIGHT
BEGIN:STANDARD
TZOFFSETFROM:+0100
TZOFFSETTO:+0000
TZNAME:GMT
DTSTART:20251026T020000Z
RRULE:FREQ=YEARLY;BYMONTH=10;BYDAY=-1SU
END:STANDARD
END:VTIMEZONE
BEGIN:VEVENT
SUMMARY:Moto Dedamrazijada 2025
DTSTAMP:20251130T193617Z
SEQUENCE:0
UID:371-4-27cc4b2b0ae372a169700dd8a71067e9@forum.bjbikers.com
ORGANIZER;CN="Pablo":webmaster@bjbikers.com
DESCRIPTION:\n	Drugari motociklisti\, ljudi velikog srca\,\n\n\n\n	 \n\
	n\n\n	Došlo je ono vreme u godini kada najavljujemo sada već punoletnu
	\, tj. devetnaestu po redu humanitarnu akciju:\n\n	'Moto Deda Mraz 2025'.
	          \n\n	\n\n	Kao i ranijih godina\, okupićemo se posledn
	je subote u godini i taj dan posvetiti našim malim drugarima iz Doma za 
	decu i omladinu ometenu u mentalnom razvoju\, u Sremčici. Ove godine je t
	o 27. decembar.\n\n\n\n	 \n\n\n\n	Za više detalja o akciji\, pogledajte
	 temu na forumu: \n\n\n\n	 \n\n\n\n\n	 \n\n
DTSTART:20251227T090000Z
DTEND:20251227T150000Z
END:VEVENT
END:VCALENDAR
