BEGIN:VCALENDAR
VERSION:2.0
PRODID:-//InvisionCommunity Events 4.7.24//EN
METHOD:PUBLISH
CALSCALE:GREGORIAN
REFRESH-INTERVAL:PT15M
X-PUBLISHED-TTL:PT15M
X-WR-CALNAME:Moto Sport
NAME:Moto Sport
BEGIN:VTIMEZONE
TZID:Europe/London
TZURL:http://tzurl.org/zoneinfo/Europe/London
X-LIC-LOCATION:Europe/London
BEGIN:DAYLIGHT
TZOFFSETFROM:+0000
TZOFFSETTO:+0100
TZNAME:BST
DTSTART:20250330T020000Z
RRULE:FREQ=YEARLY;BYMONTH=3;BYDAY=-1SU
END:DAYLIGHT
BEGIN:STANDARD
TZOFFSETFROM:+0100
TZOFFSETTO:+0000
TZNAME:GMT
DTSTART:20251026T020000Z
RRULE:FREQ=YEARLY;BYMONTH=10;BYDAY=-1SU
END:STANDARD
END:VTIMEZONE
BEGIN:VEVENT
SUMMARY:12. WSBK runda - Spanish Round
DTSTAMP:20250102T014741Z
SEQUENCE:0
UID:348-2-27cc4b2b0ae372a169700dd8a71067e9@forum.bjbikers.com
ORGANIZER;CN="Jovan Ristic":webmaster@bjbikers.com
DESCRIPTION:\n	\n	\n		 \n		\n			Raspored trkačkog vikenda\n		\n\n		\n	
			 \n		\n\n		\n			Petak \n		\n\n		\n			09:15 - 09:40 WorldWCR - FP\n\n		
		09:55 - 10:20 WorldSSP300 - FP\n\n			10:35 - 11:20 WorldSBK - FP1\n\n			1
	1:35 - 12:15 WorldSSP - FP\n\n			13:30 - 13:55 WorldWCR - Superpole\n\n			
	14:10 - 14:35 WorldSSP300 - Superpole\n\n			15:00 - 15:45 WorldSBK - FP2\n
	\n			16:00 - 16:40 WorldSSP - Superpole\n		\n\n		\n			 \n		\n\n		\n			 S
	ubota \n		\n\n		\n			09:00 - 09:20 WorldSBK - FP3\n\n			09:45 - 09:55 Wor
	ldWCR - WUP 1\n\n			10:05 - 10:15 WorldSSP300 - WUP 1\n\n			10:25 - 10:35 
	WorldSSP - WUP 1\n\n			11:00 - 11:15 WorldSBK - Superpole\n		\n\n		\n			\n
	\n			11:50 WorldWCR - Race 1\n\n			12:45 WorldSSP300 - Race 1\n\n			14:00 
	WorldSBK - Race 1\n\n			15:15 WorldSSP - Race 1\n		\n\n		\n			 \n		\n\n		
	\n			 Nedelja \n		\n\n		\n			 \n		\n\n		\n			09:15 - 09:25 WorldSBK - W
	UP\n\n			09:35 - 09:45 WorldWCR - WUP 2\n\n			09:55 - 10:05 WorldSSP300 - 
	WUP 2\n\n			10:15 - 10:25 WorldSSP - WUP 2\n		\n\n		\n			\n\n			11:00 Worl
	dSBK - Superpole Race\n\n			11:50 WorldWCR - Race 2\n\n			12:45 WorldSSP30
	0 - Race 2\n\n			14:00 WorldSBK - Race 2\n\n			15:20 WorldSSP - Race 2\n		
	\n	\n\n\n\n	 \n\n
DTSTART:20251017T071500Z
DTEND:20251019T132000Z
END:VEVENT
END:VCALENDAR
