BEGIN:VCALENDAR
VERSION:2.0
PRODID:-//InvisionCommunity Events 4.7.24//EN
METHOD:PUBLISH
CALSCALE:GREGORIAN
REFRESH-INTERVAL:PT15M
X-PUBLISHED-TTL:PT15M
X-WR-CALNAME:Akcije motociklista
NAME:Akcije motociklista
BEGIN:VTIMEZONE
TZID:Europe/London
TZURL:http://tzurl.org/zoneinfo/Europe/London
X-LIC-LOCATION:Europe/London
BEGIN:DAYLIGHT
TZOFFSETFROM:+0000
TZOFFSETTO:+0100
TZNAME:BST
DTSTART:20230326T020000Z
RRULE:FREQ=YEARLY;BYMONTH=3;BYDAY=-1SU
END:DAYLIGHT
BEGIN:STANDARD
TZOFFSETFROM:+0100
TZOFFSETTO:+0000
TZNAME:GMT
DTSTART:20231029T020000Z
RRULE:FREQ=YEARLY;BYMONTH=10;BYDAY=-1SU
END:STANDARD
END:VTIMEZONE
BEGIN:VEVENT
SUMMARY:BJB Dedamrazijada 2023.
DTSTAMP:20231127T201926Z
SEQUENCE:0
UID:321-4-27cc4b2b0ae372a169700dd8a71067e9@forum.bjbikers.com
ORGANIZER;CN="Pablo":webmaster@bjbikers.com
DESCRIPTION:\n	Drugari motociklisti\, ljudi velikog srca\,\n\n\n\n	 \n\
	n\n\n	Došlo je ono vreme u godini kada najavljujemo sada već sedamnaes
	tu po redu humanitarnu akciju:\n\n	'Moto Deda Mraz 2023'.       
	   \n\n	\n\n	Kao i ranijih godina\, okupićemo se pretposlednje subote 
	u godini i taj dan posvetiti našim malim drugarima iz Doma za decu i oml
	adinu ometenu u mentalnom razvoju\, u Sremčici. Ove godine je to 23. dec
	embar.\n\n\n\n	 \n\n\n\n	Za više detalja posetite temu na forumu:\n\n\n\
	n\n	 \n\n
DTSTART:20231223T083000Z
DTEND:20231223T160000Z
END:VEVENT
END:VCALENDAR
