BEGIN:VCALENDAR
VERSION:2.0
PRODID:-//InvisionCommunity Events 4.7.24//EN
METHOD:PUBLISH
CALSCALE:GREGORIAN
REFRESH-INTERVAL:PT15M
X-PUBLISHED-TTL:PT15M
X-WR-CALNAME:Skupovi, žurke, sajmovi
NAME:Skupovi, žurke, sajmovi
BEGIN:VTIMEZONE
TZID:Europe/London
TZURL:http://tzurl.org/zoneinfo/Europe/London
X-LIC-LOCATION:Europe/London
BEGIN:DAYLIGHT
TZOFFSETFROM:+0000
TZOFFSETTO:+0100
TZNAME:BST
DTSTART:20110327T020000Z
RRULE:FREQ=YEARLY;BYMONTH=3;BYDAY=-1SU
END:DAYLIGHT
BEGIN:STANDARD
TZOFFSETFROM:+0100
TZOFFSETTO:+0000
TZNAME:GMT
DTSTART:20111030T020000Z
RRULE:FREQ=YEARLY;BYMONTH=10;BYDAY=-1SU
END:STANDARD
END:VTIMEZONE
BEGIN:VEVENT
SUMMARY:Moto Skup u Valjevu
DTSTAMP:20110711T064418Z
SEQUENCE:1
UID:32-3-27cc4b2b0ae372a169700dd8a71067e9@forum.bjbikers.com
ORGANIZER;CN="Pablo":webmaster@bjbikers.com
DESCRIPTION:\nMC Lion's iz Valjeva organizuju svoj prvi skup u parku Pe
	ćina u Valjevu\, od 22. do 24. Jula 2011.\n \nLokacija:\n\n \nProgram:
	\n \nPETAK\nOtvaranje kampa : 13 h\nStreetfight : 17h\nVecera : 18h\nStre
	etfight : 19h\nRok koncert:\nPredigra Sabac : 20 h\nKERBER I SMAK : 22H\nP
	redigra Sabac \;00:30H\n \nSUBOTA\nBudjenje uz kafu \nIZLET (muzej \, man
	astir Lelic) - povratak u kamp\nRucak :15h \nDefile kroz grad:17h \nIgre u
	 kampu (sasvim drugacije od ostalih uz bogate nagrade)\nROK KONCERT\nStage
	 band Valjevo :20h\nKRALJEVSKI APARTMAN: 22H\nStage band :00:30 h\n \nNED
	ELJA\nBudjenje uz kafu \nDorucak : 08:00h (uz akusticnu muziku)\n \nViše
	 informacija u temi na forumu:\nhttp://forum.bjbikers.com/index.php?/topic
	/60264-prvi-moto-susret-mc-lions-valjevo/\n
DTSTART:20110722T020000Z
DTEND:20110725T015959Z
END:VEVENT
END:VCALENDAR
