BEGIN:VCALENDAR
VERSION:2.0
PRODID:-//InvisionCommunity Events 4.7.24//EN
METHOD:PUBLISH
CALSCALE:GREGORIAN
REFRESH-INTERVAL:PT15M
X-PUBLISHED-TTL:PT15M
X-WR-CALNAME:Skupovi, žurke, sajmovi
NAME:Skupovi, žurke, sajmovi
BEGIN:VTIMEZONE
TZID:Europe/London
TZURL:http://tzurl.org/zoneinfo/Europe/London
X-LIC-LOCATION:Europe/London
BEGIN:DAYLIGHT
TZOFFSETFROM:+0000
TZOFFSETTO:+0100
TZNAME:BST
DTSTART:20230326T020000Z
RRULE:FREQ=YEARLY;BYMONTH=3;BYDAY=-1SU
END:DAYLIGHT
BEGIN:STANDARD
TZOFFSETFROM:+0100
TZOFFSETTO:+0000
TZNAME:GMT
DTSTART:20231029T020000Z
RRULE:FREQ=YEARLY;BYMONTH=10;BYDAY=-1SU
END:STANDARD
END:VTIMEZONE
BEGIN:VEVENT
SUMMARY:Benelli Test Ride Event
DTSTAMP:20230830T132050Z
SEQUENCE:0
UID:319-3-27cc4b2b0ae372a169700dd8a71067e9@forum.bjbikers.com
ORGANIZER;CN="Jovan Ristic":webmaster@bjbikers.com
DESCRIPTION:\n	Burnout (zvanični uvoznik za Benelli i Ducati) u subotu 
	2. septembra organizuje Benelli Test Ride Event na Kosmaju. Svi prijavljen
	i će imati priliku da isprobaju nove Benelli TRK702 i TRK702X modele\, ka
	o i Leonćino 500 i 502C. \n\n\n\n	 \n\n\n\n	Prijave se mogu obaviti pu
	tem e-maila office@burnout.rs ili na telefon 011 3110 462. Broj mesta je
	 ograničen!\n\n\n\n	 \n\n\n\n	 \n\n\n\n	\n		 \n	\n\n	\n		\n			 Benelli 
	Test Ride Event u subotu na Kosmaju! - BJBikers.com\n		\n\n		\n			BJBIKERS
	.COM\n		\n\n		\n		\n			Firma Burnout (zvanični uvoznik za Ducati i Benell
	i) u subotu 2. septembra organizuje Benelli Test Ride Event događaj na Ko
	smaju\n		\n	\n\n\n\n	 \n\n
DTSTART:20230902T080000Z
DTEND:20230902T150000Z
END:VEVENT
END:VCALENDAR
