BEGIN:VCALENDAR
VERSION:2.0
PRODID:-//InvisionCommunity Events 4.7.24//EN
METHOD:PUBLISH
CALSCALE:GREGORIAN
REFRESH-INTERVAL:PT15M
X-PUBLISHED-TTL:PT15M
X-WR-CALNAME:Moto Sport
NAME:Moto Sport
BEGIN:VTIMEZONE
TZID:Europe/London
TZURL:http://tzurl.org/zoneinfo/Europe/London
X-LIC-LOCATION:Europe/London
BEGIN:DAYLIGHT
TZOFFSETFROM:+0000
TZOFFSETTO:+0100
TZNAME:BST
DTSTART:20230326T020000Z
RRULE:FREQ=YEARLY;BYMONTH=3;BYDAY=-1SU
END:DAYLIGHT
BEGIN:STANDARD
TZOFFSETFROM:+0100
TZOFFSETTO:+0000
TZNAME:GMT
DTSTART:20231029T020000Z
RRULE:FREQ=YEARLY;BYMONTH=10;BYDAY=-1SU
END:STANDARD
END:VTIMEZONE
BEGIN:VEVENT
SUMMARY:7. WSBK runda - Czech Round
DTSTAMP:20230222T011713Z
SEQUENCE:0
UID:302-2-27cc4b2b0ae372a169700dd8a71067e9@forum.bjbikers.com
ORGANIZER;CN="Jovan Ristic":webmaster@bjbikers.com
DESCRIPTION:\n	\n		\n			 \n		\n	\n\n	\n		\n			\n		\n\n		\n			Raspored t
	rkačkog vikenda\n		\n\n		\n			 \n		\n\n		\n			Petak \n		\n\n		\n			09:4
	5 - 10:15 WorldSSP300 - FP1\n\n			10:30 - 11:15 WorldSBK - FP1\n\n			11:25
	 - 12:10 WorldSSP - FP1\n\n			14:15 - 14:45 WorldSSP300 - FP2\n\n			15:00 
	- 15:45 WorldSBK - FP2\n\n			16:00 - 16:45 WorldSSP - FP2\n		\n\n		\n			 
	\n		\n\n		\n			 Subota \n		\n\n		\n			09:00 - 09:30 WorldSBK - FP3\n\n		
		09:45 - 10:05 WorldSSP300 - Superpole\n\n			10:25 - 10:45 WorldSSP - Supe
	rpole\n\n			11:10 - 11:25 WorldSBK - Superpole\n		\n\n		\n			\n\n			12:40 
	WorldSSP300 - Race 1\n\n			14:00 WorldSBK - Race 1\n\n			15:15 WorldSSP - 
	Race 1\n		\n\n		\n			 \n		\n\n		\n			 Nedelja \n		\n\n		\n			09:00 - 09
	:15 WorldSBK - WUP\n\n			09:25 - 09:40 WorldSSP - WUP\n\n			09:50 - 10:05 
	WorldSSP300 - WUP\n		\n\n		\n			\n\n			11:00 WorldSBK - Superpole Race\n\n
				12:30 WorldSSP - Race 2\n\n			14:00 WorldSBK - Race 2\n\n			15:15 World
	SSP300 - Race 2\n		\n\n		\n			 \n		\n	\n\n\n\n	 \n\n\n\n	Staza Most u 
	Češkoj došla je kao zamena u WSBK kalendar i zbog svoje karakteristike 
	brzo je postala omiljena među vozačima i donela je nekoliko atraktivnih 
	trka.\n\n\n\n	 \n\n
DTSTART:20230728T074500Z
DTEND:20230730T140000Z
END:VEVENT
END:VCALENDAR
