BEGIN:VCALENDAR
VERSION:2.0
PRODID:-//InvisionCommunity Events 4.7.24//EN
METHOD:PUBLISH
CALSCALE:GREGORIAN
REFRESH-INTERVAL:PT15M
X-PUBLISHED-TTL:PT15M
X-WR-CALNAME:Moto Sport
NAME:Moto Sport
BEGIN:VTIMEZONE
TZID:Europe/London
TZURL:http://tzurl.org/zoneinfo/Europe/London
X-LIC-LOCATION:Europe/London
BEGIN:DAYLIGHT
TZOFFSETFROM:+0000
TZOFFSETTO:+0100
TZNAME:BST
DTSTART:20230326T020000Z
RRULE:FREQ=YEARLY;BYMONTH=3;BYDAY=-1SU
END:DAYLIGHT
BEGIN:STANDARD
TZOFFSETFROM:+0100
TZOFFSETTO:+0000
TZNAME:GMT
DTSTART:20231029T020000Z
RRULE:FREQ=YEARLY;BYMONTH=10;BYDAY=-1SU
END:STANDARD
END:VTIMEZONE
BEGIN:VEVENT
SUMMARY:Portimao WSBK test
DTSTAMP:20230128T143909Z
SEQUENCE:0
UID:294-2-27cc4b2b0ae372a169700dd8a71067e9@forum.bjbikers.com
ORGANIZER;CN="Jovan Ristic":webmaster@bjbikers.com
DESCRIPTION:\n	\n		\n			 \n		\n	\n\n	\n		\n			Drugi WSBK test u ovoj se
	zoni voziće se na stazi Portimao. Ovaj test biće ujedno i poslednji u E
	vropi\, pred odlazak ekipa u Australiju.\n		\n	\n\n\n\n	 \n\n\n\n	 \n\n\
	n\n	 \n\n\n\n	 \n\n
DTSTART:20230131T090000Z
DTEND:20230201T160000Z
END:VEVENT
END:VCALENDAR
