BEGIN:VCALENDAR
VERSION:2.0
PRODID:-//InvisionCommunity Events 4.7.24//EN
METHOD:PUBLISH
CALSCALE:GREGORIAN
REFRESH-INTERVAL:PT15M
X-PUBLISHED-TTL:PT15M
X-WR-CALNAME:Akcije motociklista
NAME:Akcije motociklista
BEGIN:VTIMEZONE
TZID:Europe/London
TZURL:http://tzurl.org/zoneinfo/Europe/London
X-LIC-LOCATION:Europe/London
BEGIN:DAYLIGHT
TZOFFSETFROM:+0000
TZOFFSETTO:+0100
TZNAME:BST
DTSTART:20190331T020000Z
RRULE:FREQ=YEARLY;BYMONTH=3;BYDAY=-1SU
END:DAYLIGHT
BEGIN:STANDARD
TZOFFSETFROM:+0100
TZOFFSETTO:+0000
TZNAME:GMT
DTSTART:20191027T020000Z
RRULE:FREQ=YEARLY;BYMONTH=10;BYDAY=-1SU
END:STANDARD
END:VTIMEZONE
BEGIN:VEVENT
SUMMARY:Moto Deda Mraz 2019.
DTSTAMP:20191213T101746Z
SEQUENCE:0
UID:163-4-27cc4b2b0ae372a169700dd8a71067e9@forum.bjbikers.com
ORGANIZER;CN="Pablo":webmaster@bjbikers.com
DESCRIPTION:\n	Tradicionalna akcija Moto Deda Mraz će se održati u B
	eogradu 21. decembra 2019. godine kada će se više stotina motociklista o
	bučenih u odela Moto Deda Mraza okupiti ispred Gradske Skupštine u Beogr
	adu\, formirati svečanu kolonu i odneti preko 300 paketića mališanima u
	 Domu za decu i omladinu ometenu u mentalnom razvoju u Sremčici.\n\n\n\n
		 \n\n\n\n	Satnica je sledeća:\n\n\n\n	 \n\n\n\n	Okupljanje motociklist
	a 10h – Plato ispred Skupštine grada Beograda\n\n\n	10.45h – Tradic
	ionalno zajedničko fotografisanje\n\n\n	11h – Polazak organizovane kol
	one ka Domu u Sremčici (tradicionalna ruta)\n\n\n	11:30-11:45h – Dolaz
	ak u Dom u Sremčici\n\n\n	12:00 – 14:30h – Organizovan program u Dom
	u\, folklor\, muzika\, druzenje sa sticenicima doma\n\n\n	Oko 14:30h – 
	Polazak iz Sremčice ka restoranu ( dodacemo informaciju o restoranu usko
	ro\, pratite temu)\n\n\n\n	15h – 17h – Ručak i druženje u restoran
	u\, uz eventualno proglašenje BJB Vitezova.\n\n\n\n	 \n\n\n\n	Više info
	rmacija možete pronaći u radnoj temi na forumu:\n\n\n\n\n	 \n
DTSTART:20191221T090000Z
END:VEVENT
END:VCALENDAR
