BEGIN:VCALENDAR
VERSION:2.0
PRODID:-//InvisionCommunity Events 4.7.24//EN
METHOD:PUBLISH
CALSCALE:GREGORIAN
REFRESH-INTERVAL:PT15M
X-PUBLISHED-TTL:PT15M
X-WR-CALNAME:Akcije motociklista
NAME:Akcije motociklista
BEGIN:VTIMEZONE
TZID:Europe/London
TZURL:http://tzurl.org/zoneinfo/Europe/London
X-LIC-LOCATION:Europe/London
BEGIN:DAYLIGHT
TZOFFSETFROM:+0000
TZOFFSETTO:+0100
TZNAME:BST
DTSTART:20180325T020000Z
RRULE:FREQ=YEARLY;BYMONTH=3;BYDAY=-1SU
END:DAYLIGHT
BEGIN:STANDARD
TZOFFSETFROM:+0100
TZOFFSETTO:+0000
TZNAME:GMT
DTSTART:20181028T020000Z
RRULE:FREQ=YEARLY;BYMONTH=10;BYDAY=-1SU
END:STANDARD
END:VTIMEZONE
BEGIN:VEVENT
SUMMARY:Moto Deda Mraz 2018
DTSTAMP:20181203T071607Z
SEQUENCE:0
UID:129-4-27cc4b2b0ae372a169700dd8a71067e9@forum.bjbikers.com
ORGANIZER;CN="Pablo":webmaster@bjbikers.com
DESCRIPTION:\n\n	 MOTO DEDA-MRAZOVI ponovo u akciji!\n\n\n\n	 \n\n\n
	\n	 \n\n\n\n	Spremite sa da i ove godine obradujemo drugare iz \"Doma za 
	decu i omladinu ometenu u mentalnom razvoju\" u Sremčici\, podelom pake
	tića od njihovih MOTO DEDA MRAZEVA.\n\n\n\n	 \n\n\n\n	Okupljanje ispred 
	gradske skupštine u 10 h. Tamo će vas dočekati redari sa uputstvom oko
	 parkiranja\, te vas molimo da budete pripremljeni i u Deda Mraz odelima.\
	n\n\n\n	 \n\n\n\n	Detaljnu satnicu i diskusiju o samoj akciji možete pro
	naći u temi na forumu:\n\n\n\n\n	 \n\n\n\n	 \n\n
DTSTART:20181222T090000Z
END:VEVENT
END:VCALENDAR
