BEGIN:VCALENDAR
VERSION:2.0
PRODID:-//InvisionCommunity Events 4.7.24//EN
METHOD:PUBLISH
CALSCALE:GREGORIAN
REFRESH-INTERVAL:PT15M
X-PUBLISHED-TTL:PT15M
X-WR-CALNAME:Turističke vožnje
NAME:Turističke vožnje
BEGIN:VTIMEZONE
TZID:Europe/London
TZURL:http://tzurl.org/zoneinfo/Europe/London
X-LIC-LOCATION:Europe/London
BEGIN:DAYLIGHT
TZOFFSETFROM:+0000
TZOFFSETTO:+0100
TZNAME:BST
DTSTART:20180325T020000Z
RRULE:FREQ=YEARLY;BYMONTH=3;BYDAY=-1SU
END:DAYLIGHT
BEGIN:STANDARD
TZOFFSETFROM:+0100
TZOFFSETTO:+0000
TZNAME:GMT
DTSTART:20181028T020000Z
RRULE:FREQ=YEARLY;BYMONTH=10;BYDAY=-1SU
END:STANDARD
END:VTIMEZONE
BEGIN:VEVENT
SUMMARY:Ostrvica 2018
DTSTAMP:20181105T094016Z
SEQUENCE:0
UID:127-5-27cc4b2b0ae372a169700dd8a71067e9@forum.bjbikers.com
ORGANIZER;CN="Pablo":webmaster@bjbikers.com
DESCRIPTION:\n\n	Ovogodisnja\, dvanaesta po redu\, voznja do jednog od 
	dva vulkanska vrha u Srbiji ce se odrzati u subotu\, drugog vikenda novem
	bra. \n\n	 \n\n\n\n	https://goo.gl/maps/xKVZubttgX12\n\n\n\n	\n\n	 Ele
	m\, 10.11.2018. Sastanak u 10h ispred trznog centra DIS\, na Ibarskoj ma
	gistrali u Lazarevcu.\n\n	 \n\n\n\n	Polazak sa parkinga oko 10:30 uobic
	ajenom trasom preko Vagana (zajednicka fotografija na krivini ) do Zivkova
	ca\, pa na Garasko jezero. Odatle smo brzo u Belanovici od koje ima jos ne
	koliko kilometara do Ostrvice. Ocekujem da cemo na cilj stici oko 12:30h.\
	n\n	 \n\n	Povratak sa vrha je do 15h. Potom idemo do Brajkovca i skrecemo
	 ka etno selu Babina reka na topao caj ili veceru.\n\n	 \n\n\n\n	Napomene
	:\n\n	 \n\n	1) OBAVEZNO ponesite dodatnu garderobu za uspon. Nije pametno
	 sedati znojav na motor.\n\n	2) Ponesite nesto slatko za oporavak tokom us
	pona\n\n	3) Budite pazljivi\, narocito na gornjem delu trase. Pre neku go
	dinu su postavljene sajle\, pa ih koristite. Postoje planinarske markacij
	e koje trasiraju mnogo prijatniji put nego sto je pravo uzbrdo!\n\n	4) Nar
	avno\, napunite baterije\, ispraznite memorijske kartice\, imacete sto-sta
	 za slikanje!\n\n\n\n	 \n\n\n\n	 \n\n\n\n	Više detalja možete pronaći
	 u temi:\n\n\n\n\n	 \n\n
DTSTART;VALUE=DATE:20181110
END:VEVENT
END:VCALENDAR
