BEGIN:VCALENDAR
VERSION:2.0
PRODID:-//InvisionCommunity Events 4.7.24//EN
METHOD:PUBLISH
CALSCALE:GREGORIAN
REFRESH-INTERVAL:PT15M
X-PUBLISHED-TTL:PT15M
X-WR-CALNAME:Skupovi, žurke, sajmovi
NAME:Skupovi, žurke, sajmovi
BEGIN:VTIMEZONE
TZID:Europe/London
TZURL:http://tzurl.org/zoneinfo/Europe/London
X-LIC-LOCATION:Europe/London
BEGIN:DAYLIGHT
TZOFFSETFROM:+0000
TZOFFSETTO:+0100
TZNAME:BST
DTSTART:20180325T020000Z
RRULE:FREQ=YEARLY;BYMONTH=3;BYDAY=-1SU
END:DAYLIGHT
BEGIN:STANDARD
TZOFFSETFROM:+0100
TZOFFSETTO:+0000
TZNAME:GMT
DTSTART:20181028T020000Z
RRULE:FREQ=YEARLY;BYMONTH=10;BYDAY=-1SU
END:STANDARD
END:VTIMEZONE
BEGIN:VEVENT
SUMMARY:BJB Gulaš VIII
DTSTAMP:20180926T183644Z
SEQUENCE:0
UID:125-3-27cc4b2b0ae372a169700dd8a71067e9@forum.bjbikers.com
ORGANIZER;CN="Pablo":webmaster@bjbikers.com
DESCRIPTION:\n	Pozdrav drugari\,\n\n\n\n	 \n\n\n\n	i ove godine ne pres
	kačemo druženje\, tako da smo zakazali BJB Gulaš za 29. Septembar 201
	8 u Smederevu. Druženje cemo zapoceti oko 12 h na terasi dobropoznate 
	smederevske ustanove \"Beerland\" .\n\n\n\n	 \n\n\n\n	Lokacija je izvanr
	edna\, nalazi se na samom ulasku u grad (iz pravca Beograda - smederevcem)
	\, preko puta veslackog kluba.\n\n\n\n	 \n\n\n\n	Opet smo angažovali pro
	fesionalce iz Beerland-a da iznesu ugostiteljski deo\, kako bi mi iz organ
	izacije Gulaša\, za razliku od prošlih\, imali vise vremena da se druži
	mo sa vama. Cene pića i klope\, ce kao i svake godine biti niže od malop
	rodajnih u restoranima.\n\n\n\n	 \n\n\n\n	Ako neko dolazi sa strane i ima
	 nameru da prespava\, neka se javi @VladaSD da pomogne oko nalaženja sme
	štaja.\n\n\n\n	 \n\n\n\n	Kao i uvek do sada\, motori nisu uslov za dolaz
	ak... dođite kolima\, busom ili ko šta ima... Izvolite sa članovima por
	odice - mesto je odlično i za decu\, jer je u blizini Dunavski kej i deč
	iji parkić i igralište. \n\n\n\n	 \n\n\n\n	Iz Beograda ce biti organiz
	ovan i grupni polazak\, sa voznjicom i krivinarenjem preko Avale\, Mladeno
	vca\, Dubone i Malog orasja do Smedereva... pa ko voli. Sastanak grupe ce 
	biti u 9:30 kod 1000 Ruza. Tamo će vas dočekati moja malenkost\, a polaz
	ak kolone je planiran u 10:00h.\n\n\n\n	 \n\n\n\n	Dođite da se družimo.
	\n\n\n\n	 \n\n\n\n	Više informacija u temi na forumu:\n\n\n\n\n	 \n
DTSTART:20180928T220000Z
END:VEVENT
END:VCALENDAR
